BEGIN:VCALENDAR
VERSION:2.0
PRODID:-//ccstockel.be - ECPv6.15.20//NONSGML v1.0//EN
CALSCALE:GREGORIAN
METHOD:PUBLISH
X-WR-CALNAME:ccstockel.be
X-ORIGINAL-URL:https://ccstockel.be
X-WR-CALDESC:Évènements pour ccstockel.be
REFRESH-INTERVAL;VALUE=DURATION:PT1H
X-Robots-Tag:noindex
X-PUBLISHED-TTL:PT1H
BEGIN:VTIMEZONE
TZID:Europe/Brussels
BEGIN:DAYLIGHT
TZOFFSETFROM:+0100
TZOFFSETTO:+0200
TZNAME:CEST
DTSTART:20250330T010000
END:DAYLIGHT
BEGIN:STANDARD
TZOFFSETFROM:+0200
TZOFFSETTO:+0100
TZNAME:CET
DTSTART:20251026T010000
END:STANDARD
BEGIN:DAYLIGHT
TZOFFSETFROM:+0100
TZOFFSETTO:+0200
TZNAME:CEST
DTSTART:20260329T010000
END:DAYLIGHT
BEGIN:STANDARD
TZOFFSETFROM:+0200
TZOFFSETTO:+0100
TZNAME:CET
DTSTART:20261025T010000
END:STANDARD
BEGIN:DAYLIGHT
TZOFFSETFROM:+0100
TZOFFSETTO:+0200
TZNAME:CEST
DTSTART:20270328T010000
END:DAYLIGHT
BEGIN:STANDARD
TZOFFSETFROM:+0200
TZOFFSETTO:+0100
TZNAME:CET
DTSTART:20271031T010000
END:STANDARD
END:VTIMEZONE
BEGIN:VEVENT
DTSTART;TZID=Europe/Brussels:20261004T103000
DTEND;TZID=Europe/Brussels:20261004T113000
DTSTAMP:20260422T142818
CREATED:20251210T094728Z
LAST-MODIFIED:20251210T094728Z
UID:5733-1791109800-1791113400@ccstockel.be
SUMMARY:Culte dominical
DESCRIPTION:Avenue Parmentier 250 \n1150\, Woluwe-Saint-Pierre
URL:https://ccstockel.be/evenement/culte-dominical-59/
CATEGORIES:Cultes
END:VEVENT
BEGIN:VEVENT
DTSTART;TZID=Europe/Brussels:20261011T103000
DTEND;TZID=Europe/Brussels:20261011T113000
DTSTAMP:20260422T142818
CREATED:20251210T094825Z
LAST-MODIFIED:20251210T094825Z
UID:5736-1791714600-1791718200@ccstockel.be
SUMMARY:Culte dominical
DESCRIPTION:Avenue Parmentier 250 \n1150\, Woluwe-Saint-Pierre
URL:https://ccstockel.be/evenement/culte-dominical-60/
CATEGORIES:Cultes
END:VEVENT
BEGIN:VEVENT
DTSTART;TZID=Europe/Brussels:20261018T103000
DTEND;TZID=Europe/Brussels:20261018T113000
DTSTAMP:20260422T142818
CREATED:20251210T094901Z
LAST-MODIFIED:20251210T094901Z
UID:5737-1792319400-1792323000@ccstockel.be
SUMMARY:Culte dominical
DESCRIPTION:Avenue Parmentier 250 \n1150\, Woluwe-Saint-Pierre
URL:https://ccstockel.be/evenement/culte-dominical-61/
CATEGORIES:Cultes
END:VEVENT
BEGIN:VEVENT
DTSTART;TZID=Europe/Brussels:20261025T103000
DTEND;TZID=Europe/Brussels:20261025T113000
DTSTAMP:20260422T142818
CREATED:20251210T095012Z
LAST-MODIFIED:20251210T095012Z
UID:5740-1792924200-1792927800@ccstockel.be
SUMMARY:Culte dominical
DESCRIPTION:Avenue Parmentier 250 \n1150\, Woluwe-Saint-Pierre
URL:https://ccstockel.be/evenement/culte-dominical-62/
CATEGORIES:Cultes
END:VEVENT
END:VCALENDAR