BEGIN:VCALENDAR
VERSION:2.0
PRODID:-//ccstockel.be - ECPv6.15.20//NONSGML v1.0//EN
CALSCALE:GREGORIAN
METHOD:PUBLISH
X-ORIGINAL-URL:https://ccstockel.be
X-WR-CALDESC:Évènements pour ccstockel.be
REFRESH-INTERVAL;VALUE=DURATION:PT1H
X-Robots-Tag:noindex
X-PUBLISHED-TTL:PT1H
BEGIN:VTIMEZONE
TZID:Europe/Brussels
BEGIN:DAYLIGHT
TZOFFSETFROM:+0100
TZOFFSETTO:+0200
TZNAME:CEST
DTSTART:20250330T010000
END:DAYLIGHT
BEGIN:STANDARD
TZOFFSETFROM:+0200
TZOFFSETTO:+0100
TZNAME:CET
DTSTART:20251026T010000
END:STANDARD
BEGIN:DAYLIGHT
TZOFFSETFROM:+0100
TZOFFSETTO:+0200
TZNAME:CEST
DTSTART:20260329T010000
END:DAYLIGHT
BEGIN:STANDARD
TZOFFSETFROM:+0200
TZOFFSETTO:+0100
TZNAME:CET
DTSTART:20261025T010000
END:STANDARD
BEGIN:DAYLIGHT
TZOFFSETFROM:+0100
TZOFFSETTO:+0200
TZNAME:CEST
DTSTART:20270328T010000
END:DAYLIGHT
BEGIN:STANDARD
TZOFFSETFROM:+0200
TZOFFSETTO:+0100
TZNAME:CET
DTSTART:20271031T010000
END:STANDARD
END:VTIMEZONE
BEGIN:VEVENT
DTSTART;TZID=Europe/Brussels:20260906T103000
DTEND;TZID=Europe/Brussels:20260906T113000
DTSTAMP:20260422T123937
CREATED:20251210T094348Z
LAST-MODIFIED:20251210T094348Z
UID:5725-1788690600-1788694200@ccstockel.be
SUMMARY:Culte dominical
DESCRIPTION:Avenue Parmentier 250 \n1150\, Woluwe-Saint-Pierre
URL:https://ccstockel.be/evenement/culte-dominical-55/
CATEGORIES:Cultes
END:VEVENT
BEGIN:VEVENT
DTSTART;TZID=Europe/Brussels:20260913T103000
DTEND;TZID=Europe/Brussels:20260913T113000
DTSTAMP:20260422T123937
CREATED:20251210T094506Z
LAST-MODIFIED:20251210T094506Z
UID:5728-1789295400-1789299000@ccstockel.be
SUMMARY:Culte dominical
DESCRIPTION:Avenue Parmentier 250 \n1150\, Woluwe-Saint-Pierre
URL:https://ccstockel.be/evenement/culte-dominical-56/
CATEGORIES:Cultes
END:VEVENT
BEGIN:VEVENT
DTSTART;TZID=Europe/Brussels:20260920T103000
DTEND;TZID=Europe/Brussels:20260920T113000
DTSTAMP:20260422T123937
CREATED:20251210T094545Z
LAST-MODIFIED:20251210T094545Z
UID:5729-1789900200-1789903800@ccstockel.be
SUMMARY:Culte dominical
DESCRIPTION:Avenue Parmentier 250 \n1150\, Woluwe-Saint-Pierre
URL:https://ccstockel.be/evenement/culte-dominical-57/
CATEGORIES:Cultes
END:VEVENT
BEGIN:VEVENT
DTSTART;TZID=Europe/Brussels:20260927T103000
DTEND;TZID=Europe/Brussels:20260927T113000
DTSTAMP:20260422T123937
CREATED:20251210T094644Z
LAST-MODIFIED:20251210T094644Z
UID:5732-1790505000-1790508600@ccstockel.be
SUMMARY:Culte dominical
DESCRIPTION:Avenue Parmentier 250 \n1150\, Woluwe-Saint-Pierre
URL:https://ccstockel.be/evenement/culte-dominical-58/
CATEGORIES:Cultes
END:VEVENT
END:VCALENDAR