BEGIN:VCALENDAR
VERSION:2.0
PRODID:-//ccstockel.be - ECPv6.15.20//NONSGML v1.0//EN
CALSCALE:GREGORIAN
METHOD:PUBLISH
X-WR-CALNAME:ccstockel.be
X-ORIGINAL-URL:https://ccstockel.be
X-WR-CALDESC:Évènements pour ccstockel.be
REFRESH-INTERVAL;VALUE=DURATION:PT1H
X-Robots-Tag:noindex
X-PUBLISHED-TTL:PT1H
BEGIN:VTIMEZONE
TZID:Europe/Brussels
BEGIN:DAYLIGHT
TZOFFSETFROM:+0100
TZOFFSETTO:+0200
TZNAME:CEST
DTSTART:20240331T010000
END:DAYLIGHT
BEGIN:STANDARD
TZOFFSETFROM:+0200
TZOFFSETTO:+0100
TZNAME:CET
DTSTART:20241027T010000
END:STANDARD
BEGIN:DAYLIGHT
TZOFFSETFROM:+0100
TZOFFSETTO:+0200
TZNAME:CEST
DTSTART:20250330T010000
END:DAYLIGHT
BEGIN:STANDARD
TZOFFSETFROM:+0200
TZOFFSETTO:+0100
TZNAME:CET
DTSTART:20251026T010000
END:STANDARD
BEGIN:DAYLIGHT
TZOFFSETFROM:+0100
TZOFFSETTO:+0200
TZNAME:CEST
DTSTART:20260329T010000
END:DAYLIGHT
BEGIN:STANDARD
TZOFFSETFROM:+0200
TZOFFSETTO:+0100
TZNAME:CET
DTSTART:20261025T010000
END:STANDARD
END:VTIMEZONE
BEGIN:VEVENT
DTSTART;TZID=Europe/Brussels:20251005T103000
DTEND;TZID=Europe/Brussels:20251005T113000
DTSTAMP:20260420T140814
CREATED:20241221T085659Z
LAST-MODIFIED:20250915T085045Z
UID:5433-1759660200-1759663800@ccstockel.be
SUMMARY:Culte dominical & Assemblée des membres
DESCRIPTION:12h : Après le culte assemblée des membres + vote\n  \n  \nAvenue Parmentier 250 \n1150\, Woluwe-Saint-Pierre
URL:https://ccstockel.be/evenement/culte-dominical-86/
CATEGORIES:Cultes
ATTACH;FMTTYPE=image/jpeg:https://ccstockel.be/wp-content/uploads/2024/09/CULTE-1.jpg
END:VEVENT
BEGIN:VEVENT
DTSTART;TZID=Europe/Brussels:20251012T103000
DTEND;TZID=Europe/Brussels:20251012T113000
DTSTAMP:20260420T140814
CREATED:20241221T085734Z
LAST-MODIFIED:20241221T085734Z
UID:5435-1760265000-1760268600@ccstockel.be
SUMMARY:Culte dominical
DESCRIPTION:Avenue Parmentier 250 \n1150\, Woluwe-Saint-Pierre
URL:https://ccstockel.be/evenement/culte-dominical-87/
CATEGORIES:Cultes
ATTACH;FMTTYPE=image/jpeg:https://ccstockel.be/wp-content/uploads/2024/09/CULTE-1.jpg
END:VEVENT
BEGIN:VEVENT
DTSTART;TZID=Europe/Brussels:20251019T103000
DTEND;TZID=Europe/Brussels:20251019T113000
DTSTAMP:20260420T140814
CREATED:20241221T085806Z
LAST-MODIFIED:20250910T143535Z
UID:5437-1760869800-1760873400@ccstockel.be
SUMMARY:Culte dominical "Témoins de Foi"
DESCRIPTION:Témoins de foi : William et Catherine Booth\n \nAvenue Parmentier 250 \n1150\, Woluwe-Saint-Pierre
URL:https://ccstockel.be/evenement/culte-dominical-88/
CATEGORIES:Cultes
ATTACH;FMTTYPE=image/jpeg:https://ccstockel.be/wp-content/uploads/2024/09/CULTE-1.jpg
END:VEVENT
BEGIN:VEVENT
DTSTART;TZID=Europe/Brussels:20251026T103000
DTEND;TZID=Europe/Brussels:20251026T113000
DTSTAMP:20260420T140814
CREATED:20241221T085840Z
LAST-MODIFIED:20250910T144026Z
UID:5439-1761474600-1761478200@ccstockel.be
SUMMARY:Culte dominical "Témoins de Foi"
DESCRIPTION:Témoins de Foi: Henri Nouwen\n \nAvenue Parmentier 250 \n1150\, Woluwe-Saint-Pierre
URL:https://ccstockel.be/evenement/culte-dominical-89/
CATEGORIES:Cultes
ATTACH;FMTTYPE=image/jpeg:https://ccstockel.be/wp-content/uploads/2024/09/CULTE-1.jpg
END:VEVENT
END:VCALENDAR