BEGIN:VCALENDAR
VERSION:2.0
PRODID:-//ccstockel.be - ECPv6.15.20//NONSGML v1.0//EN
CALSCALE:GREGORIAN
METHOD:PUBLISH
X-ORIGINAL-URL:https://ccstockel.be
X-WR-CALDESC:Évènements pour ccstockel.be
REFRESH-INTERVAL;VALUE=DURATION:PT1H
X-Robots-Tag:noindex
X-PUBLISHED-TTL:PT1H
BEGIN:VTIMEZONE
TZID:Europe/Brussels
BEGIN:DAYLIGHT
TZOFFSETFROM:+0100
TZOFFSETTO:+0200
TZNAME:CEST
DTSTART:20240331T010000
END:DAYLIGHT
BEGIN:STANDARD
TZOFFSETFROM:+0200
TZOFFSETTO:+0100
TZNAME:CET
DTSTART:20241027T010000
END:STANDARD
BEGIN:DAYLIGHT
TZOFFSETFROM:+0100
TZOFFSETTO:+0200
TZNAME:CEST
DTSTART:20250330T010000
END:DAYLIGHT
BEGIN:STANDARD
TZOFFSETFROM:+0200
TZOFFSETTO:+0100
TZNAME:CET
DTSTART:20251026T010000
END:STANDARD
BEGIN:DAYLIGHT
TZOFFSETFROM:+0100
TZOFFSETTO:+0200
TZNAME:CEST
DTSTART:20260329T010000
END:DAYLIGHT
BEGIN:STANDARD
TZOFFSETFROM:+0200
TZOFFSETTO:+0100
TZNAME:CET
DTSTART:20261025T010000
END:STANDARD
END:VTIMEZONE
BEGIN:VEVENT
DTSTART;TZID=Europe/Brussels:20250907T103000
DTEND;TZID=Europe/Brussels:20250907T113000
DTSTAMP:20260420T152903
CREATED:20241221T085407Z
LAST-MODIFIED:20241221T085407Z
UID:5425-1757241000-1757244600@ccstockel.be
SUMMARY:Culte dominical
DESCRIPTION:Avenue Parmentier 250 \n1150\, Woluwe-Saint-Pierre
URL:https://ccstockel.be/evenement/culte-dominical-82/
CATEGORIES:Cultes
ATTACH;FMTTYPE=image/jpeg:https://ccstockel.be/wp-content/uploads/2024/09/CULTE-1.jpg
END:VEVENT
BEGIN:VEVENT
DTSTART;TZID=Europe/Brussels:20250914T103000
DTEND;TZID=Europe/Brussels:20250914T113000
DTSTAMP:20260420T152904
CREATED:20241221T085450Z
LAST-MODIFIED:20250910T143712Z
UID:5427-1757845800-1757849400@ccstockel.be
SUMMARY:Culte dominical  "Témoins de Foi"
DESCRIPTION:Témoins de Foi : France Quéré\n \n  \nAvenue Parmentier 250 \n1150\, Woluwe-Saint-Pierre
URL:https://ccstockel.be/evenement/culte-dominical-83/
CATEGORIES:Cultes
ATTACH;FMTTYPE=image/jpeg:https://ccstockel.be/wp-content/uploads/2024/09/CULTE-1.jpg
END:VEVENT
BEGIN:VEVENT
DTSTART;TZID=Europe/Brussels:20250921T103000
DTEND;TZID=Europe/Brussels:20250921T113000
DTSTAMP:20260420T152904
CREATED:20241221T085545Z
LAST-MODIFIED:20250915T084727Z
UID:5429-1758450600-1758454200@ccstockel.be
SUMMARY:! Pas de Culte dominical
DESCRIPTION:Journée sans voiture
URL:https://ccstockel.be/evenement/culte-dominical-84/
CATEGORIES:Cultes
ATTACH;FMTTYPE=image/jpeg:https://ccstockel.be/wp-content/uploads/2024/12/dimanche-sans-voiture.jpg
END:VEVENT
BEGIN:VEVENT
DTSTART;TZID=Europe/Brussels:20250928T103000
DTEND;TZID=Europe/Brussels:20250928T113000
DTSTAMP:20260420T152904
CREATED:20241221T085623Z
LAST-MODIFIED:20250910T143846Z
UID:5431-1759055400-1759059000@ccstockel.be
SUMMARY:Culte dominical "Témoins de Foi"
DESCRIPTION:Témoins de Foi: Les mères du désert\n \nAvenue Parmentier 250 \n1150\, Woluwe-Saint-Pierre
URL:https://ccstockel.be/evenement/culte-dominical-85/
CATEGORIES:Cultes
ATTACH;FMTTYPE=image/jpeg:https://ccstockel.be/wp-content/uploads/2024/09/CULTE-1.jpg
END:VEVENT
END:VCALENDAR