BEGIN:VCALENDAR
VERSION:2.0
PRODID:-//ccstockel.be - ECPv6.15.20//NONSGML v1.0//EN
CALSCALE:GREGORIAN
METHOD:PUBLISH
X-WR-CALNAME:ccstockel.be
X-ORIGINAL-URL:https://ccstockel.be
X-WR-CALDESC:Évènements pour ccstockel.be
REFRESH-INTERVAL;VALUE=DURATION:PT1H
X-Robots-Tag:noindex
X-PUBLISHED-TTL:PT1H
BEGIN:VTIMEZONE
TZID:Europe/Brussels
BEGIN:DAYLIGHT
TZOFFSETFROM:+0100
TZOFFSETTO:+0200
TZNAME:CEST
DTSTART:20240331T010000
END:DAYLIGHT
BEGIN:STANDARD
TZOFFSETFROM:+0200
TZOFFSETTO:+0100
TZNAME:CET
DTSTART:20241027T010000
END:STANDARD
BEGIN:DAYLIGHT
TZOFFSETFROM:+0100
TZOFFSETTO:+0200
TZNAME:CEST
DTSTART:20250330T010000
END:DAYLIGHT
BEGIN:STANDARD
TZOFFSETFROM:+0200
TZOFFSETTO:+0100
TZNAME:CET
DTSTART:20251026T010000
END:STANDARD
BEGIN:DAYLIGHT
TZOFFSETFROM:+0100
TZOFFSETTO:+0200
TZNAME:CEST
DTSTART:20260329T010000
END:DAYLIGHT
BEGIN:STANDARD
TZOFFSETFROM:+0200
TZOFFSETTO:+0100
TZNAME:CET
DTSTART:20261025T010000
END:STANDARD
END:VTIMEZONE
BEGIN:VEVENT
DTSTART;TZID=Europe/Brussels:20250803T103000
DTEND;TZID=Europe/Brussels:20250803T113000
DTSTAMP:20260420T172804
CREATED:20241221T085055Z
LAST-MODIFIED:20241221T085055Z
UID:5415-1754217000-1754220600@ccstockel.be
SUMMARY:Culte dominical
DESCRIPTION:Avenue Parmentier 250 \n1150\, Woluwe-Saint-Pierre
URL:https://ccstockel.be/evenement/culte-dominical-77/
CATEGORIES:Cultes
ATTACH;FMTTYPE=image/jpeg:https://ccstockel.be/wp-content/uploads/2024/09/CULTE-1.jpg
END:VEVENT
BEGIN:VEVENT
DTSTART;TZID=Europe/Brussels:20250810T103000
DTEND;TZID=Europe/Brussels:20250810T113000
DTSTAMP:20260420T172804
CREATED:20241221T085127Z
LAST-MODIFIED:20241221T085127Z
UID:5417-1754821800-1754825400@ccstockel.be
SUMMARY:Culte dominical
DESCRIPTION:Avenue Parmentier 250 \n1150\, Woluwe-Saint-Pierre
URL:https://ccstockel.be/evenement/culte-dominical-78/
CATEGORIES:Cultes
ATTACH;FMTTYPE=image/jpeg:https://ccstockel.be/wp-content/uploads/2024/09/CULTE-1.jpg
END:VEVENT
BEGIN:VEVENT
DTSTART;TZID=Europe/Brussels:20250817T103000
DTEND;TZID=Europe/Brussels:20250817T113000
DTSTAMP:20260420T172804
CREATED:20241221T085212Z
LAST-MODIFIED:20241221T085212Z
UID:5419-1755426600-1755430200@ccstockel.be
SUMMARY:Culte dominical
DESCRIPTION:Avenue Parmentier 250 \n1150\, Woluwe-Saint-Pierre
URL:https://ccstockel.be/evenement/culte-dominical-79/
CATEGORIES:Cultes
ATTACH;FMTTYPE=image/jpeg:https://ccstockel.be/wp-content/uploads/2024/09/CULTE-1.jpg
END:VEVENT
BEGIN:VEVENT
DTSTART;TZID=Europe/Brussels:20250824T103000
DTEND;TZID=Europe/Brussels:20250824T113000
DTSTAMP:20260420T172804
CREATED:20241221T085252Z
LAST-MODIFIED:20241221T085252Z
UID:5421-1756031400-1756035000@ccstockel.be
SUMMARY:Culte dominical
DESCRIPTION:Avenue Parmentier 250 \n1150\, Woluwe-Saint-Pierre
URL:https://ccstockel.be/evenement/culte-dominical-80/
CATEGORIES:Cultes
ATTACH;FMTTYPE=image/jpeg:https://ccstockel.be/wp-content/uploads/2024/09/CULTE-1.jpg
END:VEVENT
BEGIN:VEVENT
DTSTART;TZID=Europe/Brussels:20250831T103000
DTEND;TZID=Europe/Brussels:20250831T113000
DTSTAMP:20260420T172804
CREATED:20241221T085331Z
LAST-MODIFIED:20241221T085331Z
UID:5423-1756636200-1756639800@ccstockel.be
SUMMARY:Culte dominical
DESCRIPTION:Avenue Parmentier 250 \n1150\, Woluwe-Saint-Pierre
URL:https://ccstockel.be/evenement/culte-dominical-81/
CATEGORIES:Cultes
ATTACH;FMTTYPE=image/jpeg:https://ccstockel.be/wp-content/uploads/2024/09/CULTE-1.jpg
END:VEVENT
END:VCALENDAR