BEGIN:VCALENDAR
VERSION:2.0
PRODID:-//ccstockel.be - ECPv6.15.20//NONSGML v1.0//EN
CALSCALE:GREGORIAN
METHOD:PUBLISH
X-ORIGINAL-URL:https://ccstockel.be
X-WR-CALDESC:Évènements pour ccstockel.be
REFRESH-INTERVAL;VALUE=DURATION:PT1H
X-Robots-Tag:noindex
X-PUBLISHED-TTL:PT1H
BEGIN:VTIMEZONE
TZID:Europe/Brussels
BEGIN:DAYLIGHT
TZOFFSETFROM:+0100
TZOFFSETTO:+0200
TZNAME:CEST
DTSTART:20240331T010000
END:DAYLIGHT
BEGIN:STANDARD
TZOFFSETFROM:+0200
TZOFFSETTO:+0100
TZNAME:CET
DTSTART:20241027T010000
END:STANDARD
BEGIN:DAYLIGHT
TZOFFSETFROM:+0100
TZOFFSETTO:+0200
TZNAME:CEST
DTSTART:20250330T010000
END:DAYLIGHT
BEGIN:STANDARD
TZOFFSETFROM:+0200
TZOFFSETTO:+0100
TZNAME:CET
DTSTART:20251026T010000
END:STANDARD
BEGIN:DAYLIGHT
TZOFFSETFROM:+0100
TZOFFSETTO:+0200
TZNAME:CEST
DTSTART:20260329T010000
END:DAYLIGHT
BEGIN:STANDARD
TZOFFSETFROM:+0200
TZOFFSETTO:+0100
TZNAME:CET
DTSTART:20261025T010000
END:STANDARD
END:VTIMEZONE
BEGIN:VEVENT
DTSTART;TZID=Europe/Brussels:20250706T103000
DTEND;TZID=Europe/Brussels:20250706T113000
DTSTAMP:20260420T192533
CREATED:20241221T084814Z
LAST-MODIFIED:20241221T084814Z
UID:5407-1751797800-1751801400@ccstockel.be
SUMMARY:Culte dominical
DESCRIPTION:Avenue Parmentier 250 \n1150\, Woluwe-Saint-Pierre
URL:https://ccstockel.be/evenement/culte-dominical-73/
CATEGORIES:Cultes
ATTACH;FMTTYPE=image/jpeg:https://ccstockel.be/wp-content/uploads/2024/09/CULTE-1.jpg
END:VEVENT
BEGIN:VEVENT
DTSTART;TZID=Europe/Brussels:20250713T103000
DTEND;TZID=Europe/Brussels:20250713T113000
DTSTAMP:20260420T192533
CREATED:20241221T084859Z
LAST-MODIFIED:20241221T084859Z
UID:5409-1752402600-1752406200@ccstockel.be
SUMMARY:Culte dominical
DESCRIPTION:Avenue Parmentier 250 \n1150\, Woluwe-Saint-Pierre
URL:https://ccstockel.be/evenement/culte-dominical-74/
CATEGORIES:Cultes
ATTACH;FMTTYPE=image/jpeg:https://ccstockel.be/wp-content/uploads/2024/09/CULTE-1.jpg
END:VEVENT
BEGIN:VEVENT
DTSTART;TZID=Europe/Brussels:20250720T103000
DTEND;TZID=Europe/Brussels:20250720T113000
DTSTAMP:20260420T192533
CREATED:20241221T084938Z
LAST-MODIFIED:20241221T084938Z
UID:5411-1753007400-1753011000@ccstockel.be
SUMMARY:Culte dominical
DESCRIPTION:Avenue Parmentier 250 \n1150\, Woluwe-Saint-Pierre
URL:https://ccstockel.be/evenement/culte-dominical-75/
CATEGORIES:Cultes
ATTACH;FMTTYPE=image/jpeg:https://ccstockel.be/wp-content/uploads/2024/09/CULTE-1.jpg
END:VEVENT
BEGIN:VEVENT
DTSTART;TZID=Europe/Brussels:20250724T080000
DTEND;TZID=Europe/Brussels:20250727T170000
DTSTAMP:20260420T192533
CREATED:20250206T093901Z
LAST-MODIFIED:20250206T095032Z
UID:5502-1753344000-1753635600@ccstockel.be
SUMMARY:Convention AEEBLF 2025 à Nandax
DESCRIPTION:Il est où\, le bonheur ?\nC’est la thématique retenue pour cette édition 2025. Il est vrai que c’est le titre d’une chanson de Christophe Maé\, \nmais cette question renvoie bien plus qu’à un refrain\, c’est la quête de chaque être humain ! \nLes orateurs de la Convention nous conduiront donc dans cette réflexion\, autour de l’expérience humaine universelle qu’est l’aspiration au bonheur. \n  \nProgramme\nLa Convention AEEBLF\, c’est l’occasion de réunir toutes les générations durant un long week-end\, avec un programme adapté à chacun\, \ndu plus récréatif au plus sérieux : club pour enfants\, rencontres d’ados\, visites culturelles\, chorale\, moments de louange\, ateliers bibliques\, temps libre… \nLogés sur place en all-inclusive\, vous aurez le temps de faire de très belles rencontres avec des frères et sœurs de France et de Navarre (Belgique\, Suisse…)\, \nque ce soit autour d’un café\, d’une partie de pétanque ou d’un moment de prière impromptu. \nVous l’aurez compris\, l’idée c’est de pouvoir profiter de ces moments hors du temps en saisissant la possibilité de se mettre à l’écoute de ce que Dieu voudrait nous chuchoter. \n  \nTarifs et inscriptions\n \n  \n Nandax\nEt si cet été\, votre voiture\, votre train\, votre moto ou votre avion passait par Nandax ? \nPetit hameau de la Loire situé à moins d’une centaine de kilomètres au nord-ouest de Lyon ! \nVous pourriez profiter d’un cadre bucolique pour vous détendre\, découvrir de beaux paysages et même tenter une randonnée ! Mais pas seulement ! \n \n  \n \n 
URL:https://ccstockel.be/evenement/convention-aeeblf-2025-a-nandax/
CATEGORIES:Sorties d'église
ATTACH;FMTTYPE=image/jpeg:https://ccstockel.be/wp-content/uploads/2025/02/Il-est-ou-le-bonheur.jpg
END:VEVENT
BEGIN:VEVENT
DTSTART;TZID=Europe/Brussels:20250727T103000
DTEND;TZID=Europe/Brussels:20250727T113000
DTSTAMP:20260420T192533
CREATED:20241221T085015Z
LAST-MODIFIED:20241221T085015Z
UID:5413-1753612200-1753615800@ccstockel.be
SUMMARY:Culte dominical
DESCRIPTION:Avenue Parmentier 250 \n1150\, Woluwe-Saint-Pierre
URL:https://ccstockel.be/evenement/culte-dominical-76/
CATEGORIES:Cultes
ATTACH;FMTTYPE=image/jpeg:https://ccstockel.be/wp-content/uploads/2024/09/CULTE-1.jpg
END:VEVENT
END:VCALENDAR