BEGIN:VCALENDAR
VERSION:2.0
PRODID:-//ccstockel.be - ECPv6.15.20//NONSGML v1.0//EN
CALSCALE:GREGORIAN
METHOD:PUBLISH
X-ORIGINAL-URL:https://ccstockel.be
X-WR-CALDESC:Évènements pour ccstockel.be
REFRESH-INTERVAL;VALUE=DURATION:PT1H
X-Robots-Tag:noindex
X-PUBLISHED-TTL:PT1H
BEGIN:VTIMEZONE
TZID:Europe/Brussels
BEGIN:DAYLIGHT
TZOFFSETFROM:+0100
TZOFFSETTO:+0200
TZNAME:CEST
DTSTART:20240331T010000
END:DAYLIGHT
BEGIN:STANDARD
TZOFFSETFROM:+0200
TZOFFSETTO:+0100
TZNAME:CET
DTSTART:20241027T010000
END:STANDARD
BEGIN:DAYLIGHT
TZOFFSETFROM:+0100
TZOFFSETTO:+0200
TZNAME:CEST
DTSTART:20250330T010000
END:DAYLIGHT
BEGIN:STANDARD
TZOFFSETFROM:+0200
TZOFFSETTO:+0100
TZNAME:CET
DTSTART:20251026T010000
END:STANDARD
BEGIN:DAYLIGHT
TZOFFSETFROM:+0100
TZOFFSETTO:+0200
TZNAME:CEST
DTSTART:20260329T010000
END:DAYLIGHT
BEGIN:STANDARD
TZOFFSETFROM:+0200
TZOFFSETTO:+0100
TZNAME:CET
DTSTART:20261025T010000
END:STANDARD
END:VTIMEZONE
BEGIN:VEVENT
DTSTART;TZID=Europe/Brussels:20250601T103000
DTEND;TZID=Europe/Brussels:20250601T113000
DTSTAMP:20260420T205848
CREATED:20241221T084515Z
LAST-MODIFIED:20241221T084515Z
UID:5397-1748773800-1748777400@ccstockel.be
SUMMARY:Culte dominical
DESCRIPTION:Avenue Parmentier 250 \n1150\, Woluwe-Saint-Pierre
URL:https://ccstockel.be/evenement/culte-dominical-68/
CATEGORIES:Cultes
ATTACH;FMTTYPE=image/jpeg:https://ccstockel.be/wp-content/uploads/2024/09/CULTE-1.jpg
END:VEVENT
BEGIN:VEVENT
DTSTART;TZID=Europe/Brussels:20250608T103000
DTEND;TZID=Europe/Brussels:20250608T113000
DTSTAMP:20260420T205848
CREATED:20241221T084548Z
LAST-MODIFIED:20250601T142658Z
UID:5399-1749378600-1749382200@ccstockel.be
SUMMARY:Culte de Pentecôte
DESCRIPTION:Avenue Parmentier 250 \n1150\, Woluwe-Saint-Pierre
URL:https://ccstockel.be/evenement/culte-dominical-69/
CATEGORIES:Cultes
ATTACH;FMTTYPE=image/jpeg:https://ccstockel.be/wp-content/uploads/2024/12/pentecost-9586404_1280.jpg
END:VEVENT
BEGIN:VEVENT
DTSTART;TZID=Europe/Brussels:20250615T103000
DTEND;TZID=Europe/Brussels:20250615T113000
DTSTAMP:20260420T205848
CREATED:20241221T084631Z
LAST-MODIFIED:20250601T143154Z
UID:5401-1749983400-1749987000@ccstockel.be
SUMMARY:Culte dominical & Sortie Stockel Fun
DESCRIPTION:Sortie Stockel Fun promenade et goûter au Parc Josaphat\,\n \ninfos et inscriptions jusqu’au mercredi 11 juin  auprès de Sophie L. : 0470 02 84 67 \n  \n  \n  \nAvenue Parmentier 250 \n1150\, Woluwe-Saint-Pierre
URL:https://ccstockel.be/evenement/culte-dominical-70/
CATEGORIES:Cultes
ATTACH;FMTTYPE=image/jpeg:https://ccstockel.be/wp-content/uploads/2024/09/CULTE-1.jpg
END:VEVENT
BEGIN:VEVENT
DTSTART;TZID=Europe/Brussels:20250622T103000
DTEND;TZID=Europe/Brussels:20250622T113000
DTSTAMP:20260420T205848
CREATED:20241221T084705Z
LAST-MODIFIED:20241221T084705Z
UID:5403-1750588200-1750591800@ccstockel.be
SUMMARY:Culte dominical
DESCRIPTION:Avenue Parmentier 250 \n1150\, Woluwe-Saint-Pierre
URL:https://ccstockel.be/evenement/culte-dominical-71/
CATEGORIES:Cultes
ATTACH;FMTTYPE=image/jpeg:https://ccstockel.be/wp-content/uploads/2024/09/CULTE-1.jpg
END:VEVENT
BEGIN:VEVENT
DTSTART;TZID=Europe/Brussels:20250629T103000
DTEND;TZID=Europe/Brussels:20250629T113000
DTSTAMP:20260420T205848
CREATED:20241221T084738Z
LAST-MODIFIED:20250330T155304Z
UID:5405-1751193000-1751196600@ccstockel.be
SUMMARY:Culte dominical + Agape
DESCRIPTION:Avenue Parmentier 250 \n1150\, Woluwe-Saint-Pierre
URL:https://ccstockel.be/evenement/culte-dominical-72/
CATEGORIES:Cultes
ATTACH;FMTTYPE=image/jpeg:https://ccstockel.be/wp-content/uploads/2024/09/CULTE-1.jpg
END:VEVENT
END:VCALENDAR