BEGIN:VCALENDAR
VERSION:2.0
PRODID:-//ccstockel.be - ECPv6.15.20//NONSGML v1.0//EN
CALSCALE:GREGORIAN
METHOD:PUBLISH
X-WR-CALNAME:ccstockel.be
X-ORIGINAL-URL:https://ccstockel.be
X-WR-CALDESC:Évènements pour ccstockel.be
REFRESH-INTERVAL;VALUE=DURATION:PT1H
X-Robots-Tag:noindex
X-PUBLISHED-TTL:PT1H
BEGIN:VTIMEZONE
TZID:Europe/Brussels
BEGIN:DAYLIGHT
TZOFFSETFROM:+0100
TZOFFSETTO:+0200
TZNAME:CEST
DTSTART:20240331T010000
END:DAYLIGHT
BEGIN:STANDARD
TZOFFSETFROM:+0200
TZOFFSETTO:+0100
TZNAME:CET
DTSTART:20241027T010000
END:STANDARD
BEGIN:DAYLIGHT
TZOFFSETFROM:+0100
TZOFFSETTO:+0200
TZNAME:CEST
DTSTART:20250330T010000
END:DAYLIGHT
BEGIN:STANDARD
TZOFFSETFROM:+0200
TZOFFSETTO:+0100
TZNAME:CET
DTSTART:20251026T010000
END:STANDARD
BEGIN:DAYLIGHT
TZOFFSETFROM:+0100
TZOFFSETTO:+0200
TZNAME:CEST
DTSTART:20260329T010000
END:DAYLIGHT
BEGIN:STANDARD
TZOFFSETFROM:+0200
TZOFFSETTO:+0100
TZNAME:CET
DTSTART:20261025T010000
END:STANDARD
END:VTIMEZONE
BEGIN:VEVENT
DTSTART;TZID=Europe/Brussels:20250427T103000
DTEND;TZID=Europe/Brussels:20250427T113000
DTSTAMP:20260421T003116
CREATED:20241221T083659Z
LAST-MODIFIED:20241221T083659Z
UID:5387-1745749800-1745753400@ccstockel.be
SUMMARY:Culte dominical
DESCRIPTION:Avenue Parmentier 250 \n1150\, Woluwe-Saint-Pierre
URL:https://ccstockel.be/evenement/culte-dominical-18/
CATEGORIES:Cultes
ATTACH;FMTTYPE=image/jpeg:https://ccstockel.be/wp-content/uploads/2024/09/CULTE-1.jpg
END:VEVENT
END:VCALENDAR